Package: scMET Version: 1.0.0 Command: /Library/Frameworks/R.framework/Resources/bin/R CMD check --install=check:scMET.install-out.txt --library=/Library/Frameworks/R.framework/Resources/library --no-vignettes --timings scMET_1.0.0.tar.gz StartedAt: 2023-04-10 22:31:34 -0400 (Mon, 10 Apr 2023) EndedAt: 2023-04-10 22:34:50 -0400 (Mon, 10 Apr 2023) EllapsedTime: 195.4 seconds RetCode: 0 Status: OK CheckDir: scMET.Rcheck Warnings: 0