Package: scMET Version: 1.0.0 Command: rm -rf scMET.buildbin-libdir && mkdir scMET.buildbin-libdir && /Users/biocbuild/BBS/utils/build-universal.sh scMET_1.0.0.tar.gz /Library/Frameworks/R.framework/Resources/bin/R scMET.buildbin-libdir StartedAt: 2023-04-11 00:03:48 -0400 (Tue, 11 Apr 2023) EndedAt: 2023-04-11 00:05:39 -0400 (Tue, 11 Apr 2023) EllapsedTime: 111.3 seconds RetCode: 0 Status: OK PackageFile: scMET_1.0.0.tgz PackageFileSize: 3.908 MiB