Package: scMAGeCK Version: 1.9.0 Command: F:\biocbuild\bbs-3.16-bioc\R\bin\R.exe CMD check --force-multiarch --install=check:scMAGeCK.install-out.txt --library=F:\biocbuild\bbs-3.16-bioc\R\library --no-vignettes --timings scMAGeCK_1.9.0.tar.gz StartedAt: 2022-04-29 03:57:54 -0400 (Fri, 29 Apr 2022) EndedAt: 2022-04-29 04:04:43 -0400 (Fri, 29 Apr 2022) EllapsedTime: 408.7 seconds RetCode: 0 Status: WARNINGS CheckDir: scMAGeCK.Rcheck Warnings: 1