Package: scCB2 Version: 1.8.0 Command: rm -rf scCB2.buildbin-libdir && mkdir scCB2.buildbin-libdir && F:\biocbuild\bbs-3.16-bioc\R\bin\R.exe CMD INSTALL --build --library=scCB2.buildbin-libdir scCB2_1.8.0.tar.gz StartedAt: 2023-04-11 08:44:15 -0400 (Tue, 11 Apr 2023) EndedAt: 2023-04-11 08:44:57 -0400 (Tue, 11 Apr 2023) EllapsedTime: 42.1 seconds RetCode: 0 Status: OK PackageFile: scCB2_1.8.0.zip PackageFileSize: 893.6 KiB