Package: savR Version: 1.36.0 Command: rm -rf savR.buildbin-libdir && mkdir savR.buildbin-libdir && F:\biocbuild\bbs-3.16-bioc\R\bin\R.exe CMD INSTALL --build --library=savR.buildbin-libdir savR_1.36.0.tar.gz StartedAt: 2022-11-04 09:33:35 -0400 (Fri, 04 Nov 2022) EndedAt: 2022-11-04 09:34:00 -0400 (Fri, 04 Nov 2022) EllapsedTime: 25.1 seconds RetCode: 0 Status: OK PackageFile: savR_1.36.0.zip PackageFileSize: 683.8 KiB