Package: sangerseqR Version: 1.34.0 Command: /home/biocbuild/bbs-3.16-bioc/R/bin/R CMD check --install=check:sangerseqR.install-out.txt --library=/home/biocbuild/bbs-3.16-bioc/R/site-library --timings sangerseqR_1.34.0.tar.gz StartedAt: 2023-04-10 23:40:42 -0400 (Mon, 10 Apr 2023) EndedAt: 2023-04-10 23:42:56 -0400 (Mon, 10 Apr 2023) EllapsedTime: 133.3 seconds RetCode: 0 Status: OK CheckDir: sangerseqR.Rcheck Warnings: 0