Package: sangerseqR Version: 1.33.0 Command: /Library/Frameworks/R.framework/Resources/bin/R CMD build --keep-empty-dirs --no-resave-data sangerseqR StartedAt: 2022-07-07 04:18:15 -0400 (Thu, 07 Jul 2022) EndedAt: 2022-07-07 04:18:54 -0400 (Thu, 07 Jul 2022) EllapsedTime: 39.1 seconds RetCode: 0 Status: OK PackageFile: sangerseqR_1.33.0.tar.gz PackageFileSize: 1.571 MiB