Package: sampleClassifier Version: 1.22.0 Command: chmod a+r sampleClassifier -R && F:\biocbuild\bbs-3.16-bioc\R\bin\R.exe CMD build --keep-empty-dirs --no-resave-data sampleClassifier StartedAt: 2023-04-10 21:18:05 -0400 (Mon, 10 Apr 2023) EndedAt: 2023-04-10 21:20:56 -0400 (Mon, 10 Apr 2023) EllapsedTime: 171.2 seconds RetCode: 0 Status: OK PackageFile: sampleClassifier_1.22.0.tar.gz PackageFileSize: 237.8 KiB