Package: sampleClassifier Version: 1.22.0 Command: rm -rf sampleClassifier.buildbin-libdir && mkdir sampleClassifier.buildbin-libdir && F:\biocbuild\bbs-3.16-bioc\R\bin\R.exe CMD INSTALL --build --library=sampleClassifier.buildbin-libdir sampleClassifier_1.22.0.tar.gz StartedAt: 2023-04-11 08:43:08 -0400 (Tue, 11 Apr 2023) EndedAt: 2023-04-11 08:43:56 -0400 (Tue, 11 Apr 2023) EllapsedTime: 47.7 seconds RetCode: 0 Status: OK PackageFile: sampleClassifier_1.22.0.zip PackageFileSize: 272.9 KiB