Package: sampleClassifier Version: 1.22.0 Command: rm -rf sampleClassifier.buildbin-libdir && mkdir sampleClassifier.buildbin-libdir && /Users/biocbuild/BBS/utils/build-universal.sh sampleClassifier_1.22.0.tar.gz /Library/Frameworks/R.framework/Resources/bin/R sampleClassifier.buildbin-libdir StartedAt: 2023-04-11 00:02:45 -0400 (Tue, 11 Apr 2023) EndedAt: 2023-04-11 00:03:08 -0400 (Tue, 11 Apr 2023) EllapsedTime: 22.7 seconds RetCode: 0 Status: OK PackageFile: sampleClassifier_1.22.0.tgz PackageFileSize: 270.1 KiB