Package: sampleClassifier Version: 1.21.0 Command: /Library/Frameworks/R.framework/Resources/bin/R CMD build --keep-empty-dirs --no-resave-data sampleClassifier StartedAt: 2022-07-07 04:14:23 -0400 (Thu, 07 Jul 2022) EndedAt: 2022-07-07 04:16:52 -0400 (Thu, 07 Jul 2022) EllapsedTime: 148.9 seconds RetCode: 0 Status: OK PackageFile: sampleClassifier_1.21.0.tar.gz PackageFileSize: 238.2 KiB