Package: sagenhaft Version: 1.68.0 Command: chmod a+r sagenhaft -R && F:\biocbuild\bbs-3.16-bioc\R\bin\R.exe CMD build --keep-empty-dirs --no-resave-data sagenhaft StartedAt: 2023-04-10 21:17:49 -0400 (Mon, 10 Apr 2023) EndedAt: 2023-04-10 21:18:03 -0400 (Mon, 10 Apr 2023) EllapsedTime: 13.8 seconds RetCode: 0 Status: OK PackageFile: sagenhaft_1.68.0.tar.gz PackageFileSize: 2.5 MiB