git_url: https://git.bioconductor.org/packages/safe git_branch: RELEASE_3_16 git_last_commit: 03b8dee git_last_commit_date: 2022-11-01 10:38:50 -0400 (Tue, 01 Nov 2022) Package: safe Version: 3.38.0 Maintainer: Ludwig Geistlinger MaintainerEmail: ludwig_geistlinger at hms.harvard.edu