Package: sSeq Version: 1.36.0 Command: /Library/Frameworks/R.framework/Resources/bin/R CMD build --keep-empty-dirs --no-resave-data sSeq StartedAt: 2023-04-10 18:11:20 -0400 (Mon, 10 Apr 2023) EndedAt: 2023-04-10 18:12:26 -0400 (Mon, 10 Apr 2023) EllapsedTime: 66.7 seconds RetCode: 0 Status: OK PackageFile: sSeq_1.36.0.tar.gz PackageFileSize: 4.201 MiB