Package: sRACIPE Version: 1.14.0 Command: /home/biocbuild/bbs-3.16-bioc/R/bin/R CMD build --keep-empty-dirs --no-resave-data sRACIPE StartedAt: 2023-04-10 18:21:07 -0400 (Mon, 10 Apr 2023) EndedAt: 2023-04-10 18:22:07 -0400 (Mon, 10 Apr 2023) EllapsedTime: 60.6 seconds RetCode: 0 Status: OK PackageFile: sRACIPE_1.14.0.tar.gz PackageFileSize: 1.811 MiB