Package: sRACIPE Version: 1.14.0 Command: /Library/Frameworks/R.framework/Resources/bin/R CMD build --keep-empty-dirs --no-resave-data sRACIPE StartedAt: 2023-04-10 18:11:05 -0400 (Mon, 10 Apr 2023) EndedAt: 2023-04-10 18:12:03 -0400 (Mon, 10 Apr 2023) EllapsedTime: 57.9 seconds RetCode: 0 Status: OK PackageFile: sRACIPE_1.14.0.tar.gz PackageFileSize: 1.813 MiB