Package: rnaseqcomp Version: 1.28.0 Command: /home/biocbuild/bbs-3.16-bioc/R/bin/R CMD build --keep-empty-dirs --no-resave-data rnaseqcomp StartedAt: 2023-04-10 18:01:07 -0400 (Mon, 10 Apr 2023) EndedAt: 2023-04-10 18:01:22 -0400 (Mon, 10 Apr 2023) EllapsedTime: 15.9 seconds RetCode: 0 Status: OK PackageFile: rnaseqcomp_1.28.0.tar.gz PackageFileSize: 1.484 MiB