Package: rnaseqcomp Version: 1.27.0 Command: /Library/Frameworks/R.framework/Resources/bin/R CMD INSTALL rnaseqcomp StartedAt: 2022-07-10 15:09:05 -0400 (Sun, 10 Jul 2022) EndedAt: 2022-07-10 15:09:11 -0400 (Sun, 10 Jul 2022) EllapsedTime: 6.4 seconds RetCode: 0 Status: OK