Package: rnaseqcomp Version: 1.27.0 Command: /Library/Frameworks/R.framework/Resources/bin/R CMD build --keep-empty-dirs --no-resave-data rnaseqcomp StartedAt: 2022-07-07 03:48:05 -0400 (Thu, 07 Jul 2022) EndedAt: 2022-07-07 03:48:26 -0400 (Thu, 07 Jul 2022) EllapsedTime: 21.1 seconds RetCode: 0 Status: OK PackageFile: rnaseqcomp_1.27.0.tar.gz PackageFileSize: 1.479 MiB