Package: rmelting Version: 1.14.0 Command: rm -rf rmelting.buildbin-libdir && mkdir rmelting.buildbin-libdir && F:\biocbuild\bbs-3.16-bioc\R\bin\R.exe CMD INSTALL --build --library=rmelting.buildbin-libdir rmelting_1.14.0.tar.gz StartedAt: 2023-04-11 08:39:52 -0400 (Tue, 11 Apr 2023) EndedAt: 2023-04-11 08:40:00 -0400 (Tue, 11 Apr 2023) EllapsedTime: 7.5 seconds RetCode: 0 Status: OK PackageFile: rmelting_1.14.0.zip PackageFileSize: 2.467 MiB