Package: rmelting Version: 1.14.0 Command: rm -rf rmelting.buildbin-libdir && mkdir rmelting.buildbin-libdir && /Users/biocbuild/BBS/utils/build-universal.sh rmelting_1.14.0.tar.gz /Library/Frameworks/R.framework/Resources/bin/R rmelting.buildbin-libdir StartedAt: 2023-04-11 00:01:02 -0400 (Tue, 11 Apr 2023) EndedAt: 2023-04-11 00:01:08 -0400 (Tue, 11 Apr 2023) EllapsedTime: 5.7 seconds RetCode: 0 Status: OK PackageFile: rmelting_1.14.0.tgz PackageFileSize: 2.429 MiB