Package: recount Version: 1.24.1 Command: /home/biocbuild/bbs-3.16-bioc/R/bin/R CMD check --install=check:recount.install-out.txt --library=/home/biocbuild/bbs-3.16-bioc/R/site-library --timings recount_1.24.1.tar.gz StartedAt: 2023-04-10 23:20:21 -0400 (Mon, 10 Apr 2023) EndedAt: 2023-04-10 23:31:31 -0400 (Mon, 10 Apr 2023) EllapsedTime: 670.4 seconds RetCode: 0 Status: OK CheckDir: recount.Rcheck Warnings: 0