Package: recount Version: 1.24.1 Command: /home/biocbuild/bbs-3.16-bioc/R/bin/R CMD build --keep-empty-dirs --no-resave-data recount StartedAt: 2023-04-10 17:55:54 -0400 (Mon, 10 Apr 2023) EndedAt: 2023-04-10 17:59:57 -0400 (Mon, 10 Apr 2023) EllapsedTime: 243.0 seconds RetCode: 0 Status: OK PackageFile: recount_1.24.1.tar.gz PackageFileSize: 6.97 MiB