Package: randPack Version: 1.44.0 Command: F:\biocbuild\bbs-3.16-bioc\R\bin\R.exe CMD check --no-multiarch --install=check:randPack.install-out.txt --library=F:\biocbuild\bbs-3.16-bioc\R\library --no-vignettes --timings randPack_1.44.0.tar.gz StartedAt: 2023-04-11 04:57:16 -0400 (Tue, 11 Apr 2023) EndedAt: 2023-04-11 04:57:55 -0400 (Tue, 11 Apr 2023) EllapsedTime: 39.3 seconds RetCode: 0 Status: OK CheckDir: randPack.Rcheck Warnings: 0