Package: randPack Version: 1.44.0 Command: rm -rf randPack.buildbin-libdir && mkdir randPack.buildbin-libdir && F:\biocbuild\bbs-3.16-bioc\R\bin\R.exe CMD INSTALL --build --library=randPack.buildbin-libdir randPack_1.44.0.tar.gz StartedAt: 2023-04-11 08:34:50 -0400 (Tue, 11 Apr 2023) EndedAt: 2023-04-11 08:35:02 -0400 (Tue, 11 Apr 2023) EllapsedTime: 12.7 seconds RetCode: 0 Status: OK PackageFile: randPack_1.44.0.zip PackageFileSize: 342.3 KiB