Package: rama Version: 1.72.0 Command: rm -rf rama.buildbin-libdir && mkdir rama.buildbin-libdir && F:\biocbuild\bbs-3.16-bioc\R\bin\R.exe CMD INSTALL --build --library=rama.buildbin-libdir rama_1.72.0.tar.gz StartedAt: 2023-04-11 08:34:40 -0400 (Tue, 11 Apr 2023) EndedAt: 2023-04-11 08:34:50 -0400 (Tue, 11 Apr 2023) EllapsedTime: 9.9 seconds RetCode: 0 Status: OK PackageFile: rama_1.72.0.zip PackageFileSize: 569.3 KiB