Package: rama Version: 1.72.0 Command: /home/biocbuild/bbs-3.16-bioc/R/bin/R CMD build --keep-empty-dirs --no-resave-data rama StartedAt: 2023-04-10 17:52:59 -0400 (Mon, 10 Apr 2023) EndedAt: 2023-04-10 17:53:37 -0400 (Mon, 10 Apr 2023) EllapsedTime: 38.0 seconds RetCode: 0 Status: OK PackageFile: rama_1.72.0.tar.gz PackageFileSize: 517.8 KiB