Package: rama Version: 1.71.0 Command: /Library/Frameworks/R.framework/Resources/bin/R CMD INSTALL rama StartedAt: 2022-07-10 15:07:07 -0400 (Sun, 10 Jul 2022) EndedAt: 2022-07-10 15:07:12 -0400 (Sun, 10 Jul 2022) EllapsedTime: 5.6 seconds RetCode: 0 Status: OK