Package: rama Version: 1.71.0 Command: /Library/Frameworks/R.framework/Resources/bin/R CMD build --keep-empty-dirs --no-resave-data rama StartedAt: 2022-07-07 03:05:42 -0400 (Thu, 07 Jul 2022) EndedAt: 2022-07-07 03:06:20 -0400 (Thu, 07 Jul 2022) EllapsedTime: 38.1 seconds RetCode: 0 Status: OK PackageFile: rama_1.71.0.tar.gz PackageFileSize: 654.6 KiB