Package: rama Version: 1.71.0 Command: rm -rf rama.buildbin-libdir && mkdir rama.buildbin-libdir && /Users/biocbuild/BBS/utils/build-universal.sh rama_1.71.0.tar.gz /Library/Frameworks/R.framework/Resources/bin/R rama.buildbin-libdir StartedAt: 2022-07-07 08:49:15 -0400 (Thu, 07 Jul 2022) EndedAt: 2022-07-07 08:49:25 -0400 (Thu, 07 Jul 2022) EllapsedTime: 9.8 seconds RetCode: 1 Status: ERROR PackageFile: None PackageFileSize: NA