Package: rRDP Version: 1.32.0 Command: rm -rf rRDP.buildbin-libdir && mkdir rRDP.buildbin-libdir && F:\biocbuild\bbs-3.16-bioc\R\bin\R.exe CMD INSTALL --build --library=rRDP.buildbin-libdir rRDP_1.32.0.tar.gz StartedAt: 2023-04-11 08:41:30 -0400 (Tue, 11 Apr 2023) EndedAt: 2023-04-11 08:41:57 -0400 (Tue, 11 Apr 2023) EllapsedTime: 26.8 seconds RetCode: 0 Status: OK PackageFile: rRDP_1.32.0.zip PackageFileSize: 1.565 MiB