Package: rRDP Version: 1.31.0 Command: rm -rf rRDP.buildbin-libdir && mkdir rRDP.buildbin-libdir && /Users/biocbuild/BBS/utils/build-universal.sh rRDP_1.31.0.tar.gz /Library/Frameworks/R.framework/Resources/bin/R rRDP.buildbin-libdir StartedAt: 2022-07-07 08:58:01 -0400 (Thu, 07 Jul 2022) EndedAt: 2022-07-07 08:58:23 -0400 (Thu, 07 Jul 2022) EllapsedTime: 21.3 seconds RetCode: 0 Status: OK PackageFile: rRDP_1.31.0.tgz PackageFileSize: 1.568 MiB