Package: rDGIdb Version: 1.24.0 Command: /home/biocbuild/bbs-3.16-bioc/R/bin/R CMD check --install=check:rDGIdb.install-out.txt --library=/home/biocbuild/bbs-3.16-bioc/R/site-library --timings rDGIdb_1.24.0.tar.gz StartedAt: 2023-04-10 23:18:55 -0400 (Mon, 10 Apr 2023) EndedAt: 2023-04-10 23:20:33 -0400 (Mon, 10 Apr 2023) EllapsedTime: 97.9 seconds RetCode: 0 Status: OK CheckDir: rDGIdb.Rcheck Warnings: 0