Package: r3Cseq Version: 1.44.0 Command: chmod a+r r3Cseq -R && F:\biocbuild\bbs-3.16-bioc\R\bin\R.exe CMD build --keep-empty-dirs --no-resave-data r3Cseq StartedAt: 2023-04-10 20:53:25 -0400 (Mon, 10 Apr 2023) EndedAt: 2023-04-10 20:57:59 -0400 (Mon, 10 Apr 2023) EllapsedTime: 273.6 seconds RetCode: 0 Status: OK PackageFile: r3Cseq_1.44.0.tar.gz PackageFileSize: 4.161 MiB