Package: r3Cseq Version: 1.44.0 Command: rm -rf r3Cseq.buildbin-libdir && mkdir r3Cseq.buildbin-libdir && F:\biocbuild\bbs-3.16-bioc\R\bin\R.exe CMD INSTALL --build --library=r3Cseq.buildbin-libdir r3Cseq_1.44.0.tar.gz StartedAt: 2023-04-11 08:34:29 -0400 (Tue, 11 Apr 2023) EndedAt: 2023-04-11 08:35:35 -0400 (Tue, 11 Apr 2023) EllapsedTime: 65.7 seconds RetCode: 0 Status: OK PackageFile: r3Cseq_1.44.0.zip PackageFileSize: 2.759 MiB