Package: qsvaR Version: 1.2.0 Command: rm -rf qsvaR.buildbin-libdir && mkdir qsvaR.buildbin-libdir && F:\biocbuild\bbs-3.16-bioc\R\bin\R.exe CMD INSTALL --build --library=qsvaR.buildbin-libdir qsvaR_1.2.0.tar.gz StartedAt: 2023-04-11 08:33:50 -0400 (Tue, 11 Apr 2023) EndedAt: 2023-04-11 08:34:27 -0400 (Tue, 11 Apr 2023) EllapsedTime: 37.5 seconds RetCode: 0 Status: OK PackageFile: qsvaR_1.2.0.zip PackageFileSize: 3.463 MiB