Package: qpgraph Version: 2.32.2 Command: /home/biocbuild/bbs-3.16-bioc/R/bin/R CMD INSTALL qpgraph StartedAt: 2023-04-10 15:36:38 -0400 (Mon, 10 Apr 2023) EndedAt: 2023-04-10 15:37:50 -0400 (Mon, 10 Apr 2023) EllapsedTime: 72.2 seconds RetCode: 0 Status: OK