Package: qmtools Version: 1.2.0 Command: F:\biocbuild\bbs-3.16-bioc\R\bin\R.exe CMD check --no-multiarch --install=check:qmtools.install-out.txt --library=F:\biocbuild\bbs-3.16-bioc\R\library --no-vignettes --timings qmtools_1.2.0.tar.gz StartedAt: 2023-04-11 04:50:13 -0400 (Tue, 11 Apr 2023) EndedAt: 2023-04-11 04:53:09 -0400 (Tue, 11 Apr 2023) EllapsedTime: 175.8 seconds RetCode: 0 Status: OK CheckDir: qmtools.Rcheck Warnings: 0