Package: qmtools Version: 1.2.0 Command: rm -rf qmtools.buildbin-libdir && mkdir qmtools.buildbin-libdir && F:\biocbuild\bbs-3.16-bioc\R\bin\R.exe CMD INSTALL --build --library=qmtools.buildbin-libdir qmtools_1.2.0.tar.gz StartedAt: 2023-04-11 08:33:30 -0400 (Tue, 11 Apr 2023) EndedAt: 2023-04-11 08:34:07 -0400 (Tue, 11 Apr 2023) EllapsedTime: 37.2 seconds RetCode: 0 Status: OK PackageFile: qmtools_1.2.0.zip PackageFileSize: 814.7 KiB