Package: pvac Version: 1.46.0 Command: rm -rf pvac.buildbin-libdir && mkdir pvac.buildbin-libdir && F:\biocbuild\bbs-3.16-bioc\R\bin\R.exe CMD INSTALL --build --library=pvac.buildbin-libdir pvac_1.46.0.tar.gz StartedAt: 2023-04-11 08:33:00 -0400 (Tue, 11 Apr 2023) EndedAt: 2023-04-11 08:33:05 -0400 (Tue, 11 Apr 2023) EllapsedTime: 4.8 seconds RetCode: 0 Status: OK PackageFile: pvac_1.46.0.zip PackageFileSize: 128.8 KiB