Package: psygenet2r Version: 1.30.0 Command: /home/biocbuild/bbs-3.16-bioc/R/bin/R CMD check --install=check:psygenet2r.install-out.txt --library=/home/biocbuild/bbs-3.16-bioc/R/site-library --timings psygenet2r_1.30.0.tar.gz StartedAt: 2023-04-10 23:08:29 -0400 (Mon, 10 Apr 2023) EndedAt: 2023-04-10 23:21:39 -0400 (Mon, 10 Apr 2023) EllapsedTime: 790.7 seconds RetCode: 0 Status: OK CheckDir: psygenet2r.Rcheck Warnings: 0