Package: psygenet2r Version: 1.30.0 Command: /Library/Frameworks/R.framework/Resources/bin/R CMD check --install=check:psygenet2r.install-out.txt --library=/Library/Frameworks/R.framework/Resources/library --no-vignettes --timings psygenet2r_1.30.0.tar.gz StartedAt: 2023-04-10 21:59:40 -0400 (Mon, 10 Apr 2023) EndedAt: 2023-04-10 22:04:12 -0400 (Mon, 10 Apr 2023) EllapsedTime: 272.1 seconds RetCode: 0 Status: OK CheckDir: psygenet2r.Rcheck Warnings: 0