Package: profileScoreDist Version: 1.26.0 Command: F:\biocbuild\bbs-3.16-bioc\R\bin\R.exe CMD INSTALL profileScoreDist StartedAt: 2023-04-10 15:34:54 -0400 (Mon, 10 Apr 2023) EndedAt: 2023-04-10 15:35:30 -0400 (Mon, 10 Apr 2023) EllapsedTime: 36.3 seconds RetCode: 0 Status: OK