Package: profileScoreDist Version: 1.26.0 Command: /Library/Frameworks/R.framework/Resources/bin/R CMD check --install=check:profileScoreDist.install-out.txt --library=/Library/Frameworks/R.framework/Resources/library --no-vignettes --timings profileScoreDist_1.26.0.tar.gz StartedAt: 2023-04-10 21:57:42 -0400 (Mon, 10 Apr 2023) EndedAt: 2023-04-10 21:58:12 -0400 (Mon, 10 Apr 2023) EllapsedTime: 29.6 seconds RetCode: 0 Status: OK CheckDir: profileScoreDist.Rcheck Warnings: 0