Package: proBatch Version: 1.14.0 Command: F:\biocbuild\bbs-3.16-bioc\R\bin\R.exe CMD INSTALL proBatch StartedAt: 2023-04-10 16:44:01 -0400 (Mon, 10 Apr 2023) EndedAt: 2023-04-10 16:44:40 -0400 (Mon, 10 Apr 2023) EllapsedTime: 38.5 seconds RetCode: 0 Status: OK