Package: proBatch Version: 1.14.0 Command: chmod a+r proBatch -R && F:\biocbuild\bbs-3.16-bioc\R\bin\R.exe CMD build --keep-empty-dirs --no-resave-data proBatch StartedAt: 2023-04-10 20:44:48 -0400 (Mon, 10 Apr 2023) EndedAt: 2023-04-10 20:46:31 -0400 (Mon, 10 Apr 2023) EllapsedTime: 102.9 seconds RetCode: 0 Status: OK PackageFile: proBatch_1.14.0.tar.gz PackageFileSize: 2.694 MiB