Package: proBAMr Version: 1.32.0 Command: rm -rf proBAMr.buildbin-libdir && mkdir proBAMr.buildbin-libdir && F:\biocbuild\bbs-3.16-bioc\R\bin\R.exe CMD INSTALL --build --library=proBAMr.buildbin-libdir proBAMr_1.32.0.tar.gz StartedAt: 2023-04-11 08:31:54 -0400 (Tue, 11 Apr 2023) EndedAt: 2023-04-11 08:32:35 -0400 (Tue, 11 Apr 2023) EllapsedTime: 41.3 seconds RetCode: 0 Status: OK PackageFile: proBAMr_1.32.0.zip PackageFileSize: 529.9 KiB