Package: preprocessCore Version: 1.59.0 Command: /Library/Frameworks/R.framework/Resources/bin/R CMD build --keep-empty-dirs --no-resave-data preprocessCore StartedAt: 2022-07-07 02:30:56 -0400 (Thu, 07 Jul 2022) EndedAt: 2022-07-07 02:30:58 -0400 (Thu, 07 Jul 2022) EllapsedTime: 1.1 seconds RetCode: 0 Status: OK PackageFile: preprocessCore_1.59.0.tar.gz PackageFileSize: 121.1 KiB