Package: preprocessCore Version: 1.59.0 Command: rm -rf preprocessCore.buildbin-libdir && mkdir preprocessCore.buildbin-libdir && /Users/biocbuild/BBS/utils/build-universal.sh preprocessCore_1.59.0.tar.gz /Library/Frameworks/R.framework/Resources/bin/R preprocessCore.buildbin-libdir StartedAt: 2022-07-07 08:46:32 -0400 (Thu, 07 Jul 2022) EndedAt: 2022-07-07 08:47:07 -0400 (Thu, 07 Jul 2022) EllapsedTime: 35.0 seconds RetCode: 1 Status: ERROR PackageFile: None PackageFileSize: NA