Package: polyester Version: 1.34.0 Command: rm -rf polyester.buildbin-libdir && mkdir polyester.buildbin-libdir && F:\biocbuild\bbs-3.16-bioc\R\bin\R.exe CMD INSTALL --build --library=polyester.buildbin-libdir polyester_1.34.0.tar.gz StartedAt: 2023-04-11 08:31:09 -0400 (Tue, 11 Apr 2023) EndedAt: 2023-04-11 08:31:28 -0400 (Tue, 11 Apr 2023) EllapsedTime: 18.9 seconds RetCode: 0 Status: OK PackageFile: polyester_1.34.0.zip PackageFileSize: 1.929 MiB